BEGIN:VCALENDAR
VERSION:2.0
PRODID:-//eventon.com NONSGML v1.0//EN
CALSCALE:GREGORIAN
METHOD:PUBLISH
BEGIN:VEVENT
UID:69e73608561bd
DTSTAMP:20260421T083208Z
DTSTART:20251031T153000Z
DTEND:20251031T180000Z
LOCATION:Secteur 42 Rue Albert Delwarte 34
SUMMARY:Cortège d'Halloween
DESCRIPTION:🖊️cortège d&rsquo;Halloween au Secteur 42 ! 📅 Vendredi
  31 octobre 2025 – de 16h30 à 19h00📍 Secteur 42 – Lodelinsart💸 G
 ratuit Notre traditionnel cortège d&rsquo;Halloween dans le quartier ! 
  Activité ouverte à tous !\nhttps://secteur42.be/events/cortege-dhallowe
 en/
URL:https://secteur42.be/events/cortege-dhalloween/
END:VEVENT
END:VCALENDAR